BEGIN:VCALENDAR
VERSION:2.0
PRODID:-//hacksw/handcal//NONSGML v1.0//EN
BEGIN:VEVENT
SUMMARY:Sortie Falaise - Cabris - Dimanche 12 avril
UID:0ac0b9db-9ead-4ace-9804-5bbb09ba93d3
DTSTART:20260412T070000Z
DTEND:20260412T140000Z
LOCATION:Localisation   
CATEGORIES:Sportif
STATUS:
DESCRIPTION:<p style="text-align:center;"><strong>Sortie Falaise
 -Cabris - Dimanche 12 avril</strong></p>
 
 <p> </p>
 
 <p>Sortie
 falaise, accessible a tous <strong>a partir de
 8ans</strong>.</p>
 
 <ul>
 	<li>Lieu : Cabris</li>
 	<li>Nombre de
 places : 8</li>
 </ul>
 
 <p> </p>
 
 <ul>
 	<li>RDV sur place a 9h au
 college de Montauroux. </li>
 	<li>Retour vers 16h environ au meme
 endroit</li>
 </ul>
 
 <p><em>J'ai 4 places de disponibles dans ma
 voiture, au dela il faudra au moins 1 parent
 acompagnant.</em></p>
 
 <p> </p>
 
 <p>Prevoir
 :</p>
 
 <ul>
 	<li>Materiel d'escalade personnel (<strong><u>chaussons
 escalade</u></strong>)</li>
 	<li>Pique
 nique</li>
 	<li>Eau </li>
 	<li>Encas</li>
 </ul>
URL;VALUE=URI:https://www.quand-on-grimpe.com/evenements/2026/04/12/sortie-falaise-cabris-dimanche-12-avril-2436255
END:VEVENT
END:VCALENDAR
