BEGIN:VCALENDAR
VERSION:2.0
PRODID:-//hacksw/handcal//NONSGML v1.0//EN
BEGIN:VEVENT
SUMMARY:Sortie Falaise - Barrique (Blavet) - Samedi 11 avril
UID:df630cf5-d630-418d-aee2-ede08a76bbf0
DTSTART:20260411T073000Z
DTEND:20260411T130000Z
LOCATION:Localisation   
CATEGORIES:Sportif
STATUS:
DESCRIPTION:<p style="text-align:center;"><strong>Sortie Falaise -
 Barrique - Samedi 11/04 (Journee)</strong></p>
 
 <p> </p>
 
 <p>Sortie
 falaise, <em><u>accessible a tous les enfants du
 club</u></em></p>
 
 <ul>
 	<li>Barrique (Blavet)</li>
 	<li>Nombre de
 places : 8 places</li>
 	<li>Niveau : Tous
 niveaux</li>
 </ul>
 
 <p> </p>
 
 <ul>
 	<li>RDV au <a
 href="https://maps.app.goo.gl/giauaiXQYsWYTM2J7" target="_blank"
 rel="noreferrer noopener">parking de la
 falaise</a> a <strong>9h30</strong></li>
 	<li>Retour
 vers <strong>15h00</strong> environ au meme
 endroit</li>
 </ul>
 
 <p> </p>
 
 <p>Prevoir :</p>
 
 <ul>
 	<li>Materiel
 d'escalade personnel (<strong><u>chaussons escalade
 Obligatoire</u></strong>)</li>
 	<li>Eau </li>
 	<li>Encas</li>
 	<li>Pique-nique</li>
 </ul>
URL;VALUE=URI:https://www.quand-on-grimpe.com/evenements/2026/04/11/sortie-falaise-barrique-blavet-samedi-11-avril-2436253
END:VEVENT
END:VCALENDAR
